BEGIN:VCALENDAR
VERSION:2.0
PRODID:-//Eccles Foundation - ECPv6.15.11//NONSGML v1.0//EN
CALSCALE:GREGORIAN
METHOD:PUBLISH
X-WR-CALNAME:Eccles Foundation
X-ORIGINAL-URL:https://www.ecclesfoundation.org
X-WR-CALDESC:Eventi per Eccles Foundation
REFRESH-INTERVAL;VALUE=DURATION:PT1H
X-Robots-Tag:noindex
X-PUBLISHED-TTL:PT1H
BEGIN:VTIMEZONE
TZID:Europe/Zurich
BEGIN:DAYLIGHT
TZOFFSETFROM:+0100
TZOFFSETTO:+0200
TZNAME:CEST
DTSTART:20180325T010000
END:DAYLIGHT
BEGIN:STANDARD
TZOFFSETFROM:+0200
TZOFFSETTO:+0100
TZNAME:CET
DTSTART:20181028T010000
END:STANDARD
BEGIN:DAYLIGHT
TZOFFSETFROM:+0100
TZOFFSETTO:+0200
TZNAME:CEST
DTSTART:20190331T010000
END:DAYLIGHT
BEGIN:STANDARD
TZOFFSETFROM:+0200
TZOFFSETTO:+0100
TZNAME:CET
DTSTART:20191027T010000
END:STANDARD
BEGIN:DAYLIGHT
TZOFFSETFROM:+0100
TZOFFSETTO:+0200
TZNAME:CEST
DTSTART:20200329T010000
END:DAYLIGHT
BEGIN:STANDARD
TZOFFSETFROM:+0200
TZOFFSETTO:+0100
TZNAME:CET
DTSTART:20201025T010000
END:STANDARD
END:VTIMEZONE
BEGIN:VEVENT
DTSTART;VALUE=DATE:20190502
DTEND;VALUE=DATE:20190503
DTSTAMP:20260424T213815
CREATED:20190417T093152Z
LAST-MODIFIED:20250515T152048Z
UID:287-1556755200-1556841599@www.ecclesfoundation.org
SUMMARY:9th Lecture of the Year Eccles / NSI
DESCRIPTION:con il sostegno della Fondazione John Eccles    								\n				\n				\n				\n									  RelatoriTitolo delle presentazioniProf. Alain Kaelin\, MD Dr. Phil.Medical and Scientific Director NSI EOC Ospedale Regionale di Lugano (ORL)\, Professor of medicine Università della Svizzera ItalianaSaluti di benvenutoProf. Claudio L. Bassetti\, MDVice-Dean\, Medical Faculty-University Bern\, Chairman and Head Neurology Department\, Inselspital\, University Hospital Bern Chairman FNT and Fondazione Sir John EcclesIntroduction and LaudatioProf. Dr. med. univ. Franz FazekasUniversitätsklinik für Neurologie\, Klinikvorstand\, Graz Austria9th Lecture of the Year of the Neurocenter of Southern Switzerland (video)Dr. Tommaso SorianiDottore Magistrale in FilosofiaRiflessioni sulla proposta dualistico-interazionista di John C. EcclesMichele MainardiVice-President of Fondazione John Eccles Mauro MartinoniSecretary Celebration of the honorary president of the Eccles Foundation Dr. Silvio Leoni								\n				\n				\n				\n									\n					\n						\n						\n							\n									Programma\n					\n					\n				\n								\n				\n				\n				\n					Video				\n				\n				\n				\n									9th Lecture of the Year del Neurocentro della Svizzera Italiana 								\n				\n				\n				\n					Foto Gallery				\n				\n				\n				\n							\n							\n					\n											\n														\n							\n					\n											\n														\n							\n					\n											\n														\n							\n					\n											\n														\n							\n					\n											\n														\n							\n					\n											\n														\n							\n					\n											\n														\n							\n					\n											\n														\n							\n					\n											\n														\n							\n					\n											\n														\n							\n					\n											\n														\n							\n					\n											\n														\n							\n					\n											\n														\n					\n					\n				\n				\n				\n							\n			\n			\n				\n			\n			\n				\n			\n			\n				\n			\n			\n				\n			\n			\n				\n			\n			\n				\n			\n			\n				\n			\n			\n				\n			\n			\n				\n			\n			\n				\n			\n			\n				\n			\n			\n				\n			\n			\n				\n			\n		\n		\n						\n				\n				\n				\n									Celebrazione del Presidente Onorario della Fondazione John Eccles\, Dr. Silvio Leoni
URL:https://www.ecclesfoundation.org/event/9th-lecture-of-the-year-2019/
LOCATION:Auditorium\, Università Svizzera Italiana USI\, 6900 Lugano\, Svizzera
CATEGORIES:Lectures
END:VEVENT
END:VCALENDAR