BEGIN:VCALENDAR
VERSION:2.0
PRODID:-//Eccles Foundation - ECPv6.15.11//NONSGML v1.0//EN
CALSCALE:GREGORIAN
METHOD:PUBLISH
X-WR-CALNAME:Eccles Foundation
X-ORIGINAL-URL:https://www.ecclesfoundation.org
X-WR-CALDESC:Eventi per Eccles Foundation
REFRESH-INTERVAL;VALUE=DURATION:PT1H
X-Robots-Tag:noindex
X-PUBLISHED-TTL:PT1H
BEGIN:VTIMEZONE
TZID:Europe/Zurich
BEGIN:DAYLIGHT
TZOFFSETFROM:+0100
TZOFFSETTO:+0200
TZNAME:CEST
DTSTART:20130331T010000
END:DAYLIGHT
BEGIN:STANDARD
TZOFFSETFROM:+0200
TZOFFSETTO:+0100
TZNAME:CET
DTSTART:20131027T010000
END:STANDARD
BEGIN:DAYLIGHT
TZOFFSETFROM:+0100
TZOFFSETTO:+0200
TZNAME:CEST
DTSTART:20140330T010000
END:DAYLIGHT
BEGIN:STANDARD
TZOFFSETFROM:+0200
TZOFFSETTO:+0100
TZNAME:CET
DTSTART:20141026T010000
END:STANDARD
BEGIN:DAYLIGHT
TZOFFSETFROM:+0100
TZOFFSETTO:+0200
TZNAME:CEST
DTSTART:20150329T010000
END:DAYLIGHT
BEGIN:STANDARD
TZOFFSETFROM:+0200
TZOFFSETTO:+0100
TZNAME:CET
DTSTART:20151025T010000
END:STANDARD
END:VTIMEZONE
BEGIN:VEVENT
DTSTART;VALUE=DATE:20141018
DTEND;VALUE=DATE:20141019
DTSTAMP:20260421T104706
CREATED:20190305T172501Z
LAST-MODIFIED:20250128T132251Z
UID:195-1413590400-1413676799@www.ecclesfoundation.org
SUMMARY:Emozioni e cervello. Fra libertà e controllo.
DESCRIPTION:14/10/2014 – presso Centro Monte Verità								\n				\n				\n				\n									RelatoriTitolo delle presentazioniDr. Daniele BuiFondazione Sir John EcclesIl punto di vista filosoficoProf. Roberto CaldaraUniversità di FriborgoIl punto di vista psicologicoProf. Werner StrikUniversità di BernaIl punto di vista psichiatricoProf. Marco R. CelioUniversità di FriborgoAnatomia dei circuiti emozionaliProf. Dr. med. Claudio L. BassettiUniversità di BernaRidere e piangere dal punto di vista neurologicoDr. Carlo CalanchiniFacoltà di Tecnoogia di LuganoEmozioni e responsabilità. Il punto di vista dello psichiatra forense								\n				\n				\n				\n									\n					\n						\n						\n							\n									Programma
URL:https://www.ecclesfoundation.org/event/emozioni-e-cervello-fra-liberta-e-controllo/
LOCATION:presso Centro Monte Verità\, Strada Collina 84\, 6612 Ascona
CATEGORIES:Simposi
END:VEVENT
END:VCALENDAR