BEGIN:VCALENDAR
VERSION:2.0
PRODID:-//Eccles Foundation - ECPv6.15.11//NONSGML v1.0//EN
CALSCALE:GREGORIAN
METHOD:PUBLISH
X-WR-CALNAME:Eccles Foundation
X-ORIGINAL-URL:https://www.ecclesfoundation.org
X-WR-CALDESC:Eventi per Eccles Foundation
REFRESH-INTERVAL;VALUE=DURATION:PT1H
X-Robots-Tag:noindex
X-PUBLISHED-TTL:PT1H
BEGIN:VTIMEZONE
TZID:Europe/Zurich
BEGIN:DAYLIGHT
TZOFFSETFROM:+0100
TZOFFSETTO:+0200
TZNAME:CEST
DTSTART:20180325T010000
END:DAYLIGHT
BEGIN:STANDARD
TZOFFSETFROM:+0200
TZOFFSETTO:+0100
TZNAME:CET
DTSTART:20181028T010000
END:STANDARD
BEGIN:DAYLIGHT
TZOFFSETFROM:+0100
TZOFFSETTO:+0200
TZNAME:CEST
DTSTART:20190331T010000
END:DAYLIGHT
BEGIN:STANDARD
TZOFFSETFROM:+0200
TZOFFSETTO:+0100
TZNAME:CET
DTSTART:20191027T010000
END:STANDARD
BEGIN:DAYLIGHT
TZOFFSETFROM:+0100
TZOFFSETTO:+0200
TZNAME:CEST
DTSTART:20200329T010000
END:DAYLIGHT
BEGIN:STANDARD
TZOFFSETFROM:+0200
TZOFFSETTO:+0100
TZNAME:CET
DTSTART:20201025T010000
END:STANDARD
END:VTIMEZONE
BEGIN:VEVENT
DTSTART;VALUE=DATE:20191011
DTEND;VALUE=DATE:20191012
DTSTAMP:20260424T230059
CREATED:20190417T100709Z
LAST-MODIFIED:20250114T135501Z
UID:299-1570752000-1570838399@www.ecclesfoundation.org
SUMMARY:Simposio La Musica incontra la Medicina: Neurobiologia e Pratica musicale
DESCRIPTION:organizzato da Fondazione Neuroscienze Ticino\, Fondazione John Eccles\, Neurocentro Svizzera Italiana e Conservatorio della Svizzera Italiana.    								\n				\n				\n				\n									    RelatoriTitolo delle presentazioniAvv. Marco BorradoriSindaco Città di LuganoChristoph BrennerDirettore Conservatorio della Svizzera italianaProf. Dr. med. Claudio L. BassettiPresidente Fondazione Neuroscienze Ticino e Fondazione Sir John Eccles Saluti di benvenuto (video)Prof. Dr. med. Alain KaelinDirettore medico e scientifico Neurocentro della Svizzera Italiana EOC\, Prof. Ordinario Università della Svizzera Italiana USI\, Membro del Consiglio di Fondazione John EcclesIntroduzioneProf. Dr. rer. nat. Lutz JänckeProfessore e Direttore del Dipartimento di Psicologia e Neuropsicologia\, Università di ZurigoNeuroplasticity and MusicProf. Dr. med. Claudio L. BassettiDirettore Clinica di Neurologia\, Inselspital Berna\, Vicedecano Facoltà di Medicina all’Università di Berna Patografie dei grandi musicistiProf. Dr. med. Dipl. Mus. Eckard AltenmuellerProfessore di fisiologia e medicina della musica\, Direttore Istituto di fisiologia e medicina della musica (IMMM)\, presso la Hochschule für Musik\, Theater und Medien di HannoverPrevention of musician’s illnessesProf. Eckard Altenmueller Prof. Anna Modesti Dir. Christoph Brenner Conservatorio della Svizzera italiana CSI Maestro Virginia Ceri musicista Didattica musicale e Neuroscienze								\n				\n				\n				\n									\n					\n						\n						\n							\n									Programma\n					\n					\n				\n								\n				\n				\n				\n									Articolo: “La distonia focale e i mali oscuri del musicista” a cura della Dr.ssa Laura Darsié(Psicanalista a Milano) 								\n				\n				\n				\n									\n					\n						\n									Leggi l'articolo su neuroscienze.net\n					\n					\n				\n								\n				\n				\n				\n					Video				\n				\n				\n				\n									Simposio: La Musica incontra la medicina\n								\n				\n				\n				\n					Foto Gallery
URL:https://www.ecclesfoundation.org/event/simposio-la-musica-incontra-la-medicina-creativita-musica-e-neurobiologia/
LOCATION:Aula Magna Conservatorio Svizzera Italiana\, Conservatorio Svizzera Italiana\, 6900 Lugano\, Svizzera
CATEGORIES:Simposi
END:VEVENT
END:VCALENDAR